BEGIN:VCALENDAR
VERSION:2.0
PRODID:-//OnePocket.org - ECPv5.1.6//NONSGML v1.0//EN
CALSCALE:GREGORIAN
METHOD:PUBLISH
X-WR-CALNAME:OnePocket.org
X-ORIGINAL-URL:https://www.onepocket.org
X-WR-CALDESC:Events for OnePocket.org
BEGIN:VTIMEZONE
TZID:America/New_York
BEGIN:DAYLIGHT
TZOFFSETFROM:-0500
TZOFFSETTO:-0400
TZNAME:EDT
DTSTART:20250309T070000
END:DAYLIGHT
BEGIN:STANDARD
TZOFFSETFROM:-0400
TZOFFSETTO:-0500
TZNAME:EST
DTSTART:20251102T060000
END:STANDARD
END:VTIMEZONE
BEGIN:VEVENT
DTSTART;VALUE=DATE:20251001
DTEND;VALUE=DATE:20251006
DTSTAMP:20260422T000018
CREATED:20250618T172800Z
LAST-MODIFIED:20250618T172800Z
UID:5793-1759276800-1759708799@www.onepocket.org
SUMMARY:10th Annual Seniors One Pocket Classic
DESCRIPTION:
URL:https://www.onepocket.org/event/10th-annual-seniors-one-pocket-classic/
LOCATION:Bogies Billiards & Sports Bar\, 3040 FM 1960 E.\, Ste. 101\, Houston\, TX\, 77073\, United States
ATTACH;FMTTYPE=image/jpeg:https://www.onepocket.org/wp-content/uploads/2025/06/IMG_9657.jpg
END:VEVENT
END:VCALENDAR