BEGIN:VCALENDAR
VERSION:2.0
PRODID:-//OnePocket.org - ECPv5.1.6//NONSGML v1.0//EN
CALSCALE:GREGORIAN
METHOD:PUBLISH
X-WR-CALNAME:OnePocket.org
X-ORIGINAL-URL:https://www.onepocket.org
X-WR-CALDESC:Events for OnePocket.org
BEGIN:VTIMEZONE
TZID:America/New_York
BEGIN:DAYLIGHT
TZOFFSETFROM:-0500
TZOFFSETTO:-0400
TZNAME:EDT
DTSTART:20220313T070000
END:DAYLIGHT
BEGIN:STANDARD
TZOFFSETFROM:-0400
TZOFFSETTO:-0500
TZNAME:EST
DTSTART:20221106T060000
END:STANDARD
END:VTIMEZONE
BEGIN:VEVENT
DTSTART;VALUE=DATE:20220104
DTEND;VALUE=DATE:20220110
DTSTAMP:20260422T133100
CREATED:20211229T013233Z
LAST-MODIFIED:20211229T013233Z
UID:4723-1641254400-1641772799@www.onepocket.org
SUMMARY:Iron City Open
DESCRIPTION:One Pocket – $7\, 000 added / $1\,000 entry — Race to 4 both sides / Finals one race to 6 — also — One Ball One Pocket — $1\,000 added / $200 entry (includes $20 green fee) – single elim Race to 4 — 32 player max
URL:https://www.onepocket.org/event/iron-city-open-4/
LOCATION:Iron City Billiards\, 800 Gadsden Highway\, Birmingham\, AL\, 35235\, United States
ATTACH;FMTTYPE=image/png:https://www.onepocket.org/wp-content/uploads/2021/12/1640707398465-1.png
END:VEVENT
END:VCALENDAR