BEGIN:VCALENDAR
VERSION:2.0
PRODID:-//OnePocket.org - ECPv5.1.6//NONSGML v1.0//EN
CALSCALE:GREGORIAN
METHOD:PUBLISH
X-WR-CALNAME:OnePocket.org
X-ORIGINAL-URL:https://www.onepocket.org
X-WR-CALDESC:Events for OnePocket.org
BEGIN:VTIMEZONE
TZID:America/New_York
BEGIN:DAYLIGHT
TZOFFSETFROM:-0500
TZOFFSETTO:-0400
TZNAME:EDT
DTSTART:20230312T070000
END:DAYLIGHT
BEGIN:STANDARD
TZOFFSETFROM:-0400
TZOFFSETTO:-0500
TZNAME:EST
DTSTART:20231105T060000
END:STANDARD
END:VTIMEZONE
BEGIN:VEVENT
DTSTART;VALUE=DATE:20230320
DTEND;VALUE=DATE:20230327
DTSTAMP:20260420T003416
CREATED:20230113T013900Z
LAST-MODIFIED:20230113T014016Z
UID:5166-1679270400-1679875199@www.onepocket.org
SUMMARY:Midwest Open Billiards Championship III
DESCRIPTION:$12\,000 added total — One pocket is $3\,000 added — $100 entry + $25 GF — Modified Dbl Elim — final 16 is single elim – races to 4 with redraw bracket – finals race to 5
URL:https://www.onepocket.org/event/midwest-open-billiards-championship-iii/
LOCATION:Michael’s Billiards\, 6625 Dixie Highway\, Fairfield\, OH\, 45014\, United States
ATTACH;FMTTYPE=image/jpeg:https://www.onepocket.org/wp-content/uploads/2023/01/FB_IMG_1673329452650-1.jpg
END:VEVENT
END:VCALENDAR